BEGIN:VCALENDAR
PRODID;X-RICAL-TZSOURCE=TZINFO:-&#47;&#47;com.denhaven2&#47;NONSGML ri_cal gem&#47;&#47;EN
CALSCALE:GREGORIAN
VERSION:2.0
BEGIN:VEVENT
DTEND;VALUE=DATE:20101031
DTSTART;VALUE=DATE:20101031
DESCRIPTION:0.9 beta is due on 10&#47;31&#47;10 (48 tickets)
SUMMARY:Milestone for Infinitas: 0.9 beta
LOCATION:https:&#47;&#47;infinitas.lighthouseapp.com&#47;projects&#47;43419&#47;milestones&#47;85
 012-09-beta
END:VEVENT
BEGIN:VEVENT
DTEND;VALUE=DATE:20120930
DTSTART;VALUE=DATE:20120930
DESCRIPTION:Next is due on 09&#47;30&#47;12 (37 tickets)
SUMMARY:Milestone for plugin - shop: Next
LOCATION:https:&#47;&#47;infinitas.lighthouseapp.com&#47;projects&#47;60194&#47;milestones&#47;15
 5410-next
END:VEVENT
BEGIN:VEVENT
DTEND;VALUE=DATE:20130101
DTSTART;VALUE=DATE:20130101
DESCRIPTION:Future is due on 01&#47;01&#47;13 (8 tickets)
SUMMARY:Milestone for plugin - shop: Future
LOCATION:https:&#47;&#47;infinitas.lighthouseapp.com&#47;projects&#47;60194&#47;milestones&#47;15
 5409-future
END:VEVENT
END:VCALENDAR
